<VRTDataset rasterXSize="360000" rasterYSize="240000">
  <SRS dataAxisToSRSAxisMapping="1,2">PROJCS["NAD83 / UTM zone 15N",GEOGCS["NAD83",DATUM["North_American_Datum_1983",SPHEROID["GRS 1980",6378137,298.257222101,AUTHORITY["EPSG","7019"]],AUTHORITY["EPSG","6269"]],PRIMEM["Greenwich",0,AUTHORITY["EPSG","8901"]],UNIT["degree",0.0174532925199433,AUTHORITY["EPSG","9122"]],AUTHORITY["EPSG","4269"]],PROJECTION["Transverse_Mercator"],PARAMETER["latitude_of_origin",0],PARAMETER["central_meridian",-93],PARAMETER["scale_factor",0.9996],PARAMETER["false_easting",500000],PARAMETER["false_northing",0],UNIT["metre",1,AUTHORITY["EPSG","9001"]],AXIS["Easting",EAST],AXIS["Northing",NORTH],AUTHORITY["EPSG","26915"]]</SRS>
  <GeoTransform>  2.0150000000000000e+05,  1.5000000000000000e+00,  0.0000000000000000e+00,  4.8245000000000000e+06,  0.0000000000000000e+00, -1.5000000000000000e+00</GeoTransform>
  <VRTRasterBand dataType="Float64" band="1">
    <Metadata>
      <MDI key="STATISTICS_MAXIMUM">872.03997802734</MDI>
      <MDI key="STATISTICS_MEAN">324.64523241414</MDI>
      <MDI key="STATISTICS_MINIMUM">-112.62000274658</MDI>
      <MDI key="STATISTICS_STDDEV">67.182183066917</MDI>
      <MDI key="STATISTICS_VALID_PERCENT">75.17</MDI>
    </Metadata>
    <NoDataValue>-9999</NoDataValue>
    <ColorInterp>Gray</ColorInterp>
    <ComplexSource>
      <SourceFilename relativeToVRT="0">/vsicurl/https://www.geotree.uni.edu/cog/iowa_statewide_dem_2010.tif</SourceFilename>
      <SourceBand>1</SourceBand>
      <SourceProperties RasterXSize="360000" RasterYSize="240000" DataType="Float64" BlockXSize="256" BlockYSize="256" />
      <SrcRect xOff="0" yOff="0" xSize="360000" ySize="240000" />
      <DstRect xOff="0" yOff="0" xSize="360000" ySize="240000" />
      <NODATA>-9999</NODATA>
    </ComplexSource>
  </VRTRasterBand>
  <OverviewList resampling="nearest">2 4 8 16 32 64 128 256</OverviewList>
</VRTDataset>
