<VRTDataset rasterXSize="358000" rasterYSize="236000">
  <SRS dataAxisToSRSAxisMapping="1,2">PROJCS["NAD83 / UTM zone 15N",GEOGCS["NAD83",DATUM["North_American_Datum_1983",SPHEROID["GRS 1980",6378137,298.257222101,AUTHORITY["EPSG","7019"]],AUTHORITY["EPSG","6269"]],PRIMEM["Greenwich",0,AUTHORITY["EPSG","8901"]],UNIT["degree",0.0174532925199433,AUTHORITY["EPSG","9122"]],AUTHORITY["EPSG","4269"]],PROJECTION["Transverse_Mercator"],PARAMETER["latitude_of_origin",0],PARAMETER["central_meridian",-93],PARAMETER["scale_factor",0.9996],PARAMETER["false_easting",500000],PARAMETER["false_northing",0],UNIT["metre",1,AUTHORITY["EPSG","9001"]],AXIS["Easting",EAST],AXIS["Northing",NORTH],AUTHORITY["EPSG","26915"]]</SRS>
  <GeoTransform>  2.0099998374191491e+05,  1.5000000000000000e+00,  0.0000000000000000e+00,  4.8229999960201411e+06,  0.0000000000000000e+00, -1.5000000000000000e+00</GeoTransform>
  <VRTRasterBand dataType="Float32" band="1">
    <Metadata>
      <MDI key="STATISTICS_MAXIMUM">1900.3764648438</MDI>
      <MDI key="STATISTICS_MEAN">324.98328003768</MDI>
      <MDI key="STATISTICS_MINIMUM">-165.60606384277</MDI>
      <MDI key="STATISTICS_STDDEV">67.262234001227</MDI>
      <MDI key="STATISTICS_VALID_PERCENT">77.73</MDI>
    </Metadata>
    <NoDataValue>-3.4028234663852886e+38</NoDataValue>
    <ColorInterp>Gray</ColorInterp>
    <ComplexSource>
      <SourceFilename relativeToVRT="0">/vsicurl/https://www.geotree.uni.edu/cog/iowa_statewide_dsm_2010.tif</SourceFilename>
      <SourceBand>1</SourceBand>
      <SourceProperties RasterXSize="358000" RasterYSize="236000" DataType="Float32" BlockXSize="256" BlockYSize="256" />
      <SrcRect xOff="0" yOff="0" xSize="358000" ySize="236000" />
      <DstRect xOff="0" yOff="0" xSize="358000" ySize="236000" />
      <NODATA>-3.4028234663852886e+38</NODATA>
    </ComplexSource>
  </VRTRasterBand>
  <OverviewList resampling="nearest">2 4 8 16 32 64 128 256</OverviewList>
</VRTDataset>
