<VRTDataset rasterXSize="535239" rasterYSize="352327">
  <SRS dataAxisToSRSAxisMapping="1,2">PROJCS["NAD83 / UTM zone 15N",GEOGCS["NAD83",DATUM["North_American_Datum_1983",SPHEROID["GRS 1980",6378137,298.257222101,AUTHORITY["EPSG","7019"]],AUTHORITY["EPSG","6269"]],PRIMEM["Greenwich",0,AUTHORITY["EPSG","8901"]],UNIT["degree",0.0174532925199433,AUTHORITY["EPSG","9122"]],AUTHORITY["EPSG","4269"]],PROJECTION["Transverse_Mercator"],PARAMETER["latitude_of_origin",0],PARAMETER["central_meridian",-93],PARAMETER["scale_factor",0.9996],PARAMETER["false_easting",500000],PARAMETER["false_northing",0],UNIT["metre",1,AUTHORITY["EPSG","9001"]],AXIS["Easting",EAST],AXIS["Northing",NORTH],AUTHORITY["EPSG","26915"]]</SRS>
  <GeoTransform>  2.0172400000000000e+05,  1.0000000000000000e+00,  0.0000000000000000e+00,  4.8227860000000000e+06,  0.0000000000000000e+00, -1.0000000000000000e+00</GeoTransform>
  <VRTRasterBand dataType="Byte" band="1">
    <Metadata>
      <MDI key="STATISTICS_MAXIMUM">15</MDI>
      <MDI key="STATISTICS_MEAN">7.0333910059861</MDI>
      <MDI key="STATISTICS_MINIMUM">0</MDI>
      <MDI key="STATISTICS_STDDEV">4.3708195286704</MDI>
    </Metadata>
    <ColorInterp>Palette</ColorInterp>
    <ColorTable>
      <Entry c1="0" c2="0" c3="0" c4="255" />
      <Entry c1="0" c2="0" c3="158" c4="255" />
      <Entry c1="28" c2="166" c3="153" c4="255" />
      <Entry c1="0" c2="35" c3="0" c4="255" />
      <Entry c1="0" c2="158" c3="0" c4="255" />
      <Entry c1="0" c2="122" c3="0" c4="255" />
      <Entry c1="0" c2="87" c3="0" c4="255" />
      <Entry c1="215" c2="153" c3="56" c4="255" />
      <Entry c1="238" c2="209" c3="69" c4="255" />
      <Entry c1="194" c2="255" c3="71" c4="255" />
      <Entry c1="255" c2="255" c3="235" c4="255" />
      <Entry c1="225" c2="225" c3="192" c4="255" />
      <Entry c1="209" c2="181" c3="232" c4="255" />
      <Entry c1="238" c2="130" c3="238" c4="255" />
      <Entry c1="176" c2="48" c3="97" c4="255" />
      <Entry c1="156" c2="156" c3="156" c4="255" />
    </ColorTable>
    <GDALRasterAttributeTable Row0Min="0" BinSize="1" tableType="thematic">
      <FieldDefn index="0">
        <Name>Histogram</Name>
        <Type>1</Type>
        <Usage>1</Usage>
      </FieldDefn>
      <FieldDefn index="1">
        <Name>Red</Name>
        <Type>0</Type>
        <Usage>6</Usage>
      </FieldDefn>
      <FieldDefn index="2">
        <Name>Green</Name>
        <Type>0</Type>
        <Usage>7</Usage>
      </FieldDefn>
      <FieldDefn index="3">
        <Name>Blue</Name>
        <Type>0</Type>
        <Usage>8</Usage>
      </FieldDefn>
      <FieldDefn index="4">
        <Name>Opacity</Name>
        <Type>0</Type>
        <Usage>9</Usage>
      </FieldDefn>
      <FieldDefn index="5">
        <Name>Class_Names</Name>
        <Type>2</Type>
        <Usage>2</Usage>
      </FieldDefn>
      <Row index="0">
        <F>119446</F>
        <F>0</F>
        <F>0</F>
        <F>0</F>
        <F>0</F>
        <F>Background</F>
      </Row>
      <Row index="1">
        <F>16297004</F>
        <F>0</F>
        <F>0</F>
        <F>158</F>
        <F>255</F>
        <F>Water</F>
      </Row>
      <Row index="2">
        <F>4509405</F>
        <F>28</F>
        <F>166</F>
        <F>153</F>
        <F>255</F>
        <F>Wetland</F>
      </Row>
      <Row index="3">
        <F>6608725</F>
        <F>0</F>
        <F>35</F>
        <F>0</F>
        <F>255</F>
        <F>Coniferous Forest</F>
      </Row>
      <Row index="4">
        <F>37516124</F>
        <F>0</F>
        <F>158</F>
        <F>0</F>
        <F>255</F>
        <F>Deciduous Short</F>
      </Row>
      <Row index="5">
        <F>19753910</F>
        <F>0</F>
        <F>122</F>
        <F>0</F>
        <F>255</F>
        <F>Deciduous Medium</F>
      </Row>
      <Row index="6">
        <F>12045614</F>
        <F>0</F>
        <F>87</F>
        <F>0</F>
        <F>255</F>
        <F>Deciduous Tall</F>
      </Row>
      <Row index="7">
        <F>363419362</F>
        <F>215</F>
        <F>153</F>
        <F>56</F>
        <F>255</F>
        <F>Grass 1</F>
      </Row>
      <Row index="8">
        <F>192905345</F>
        <F>238</F>
        <F>209</F>
        <F>69</F>
        <F>255</F>
        <F>Grass 2</F>
      </Row>
      <Row index="9">
        <F>5660874</F>
        <F>194</F>
        <F>255</F>
        <F>71</F>
        <F>255</F>
        <F>Cut Hay</F>
      </Row>
      <Row index="10">
        <F>511094900</F>
        <F>255</F>
        <F>255</F>
        <F>235</F>
        <F>255</F>
        <F>Corn</F>
      </Row>
      <Row index="11">
        <F>372728301</F>
        <F>225</F>
        <F>225</F>
        <F>192</F>
        <F>255</F>
        <F>Soybeans</F>
      </Row>
      <Row index="12">
        <F>6718597</F>
        <F>209</F>
        <F>181</F>
        <F>232</F>
        <F>255</F>
        <F>Barren / Fallow</F>
      </Row>
      <Row index="13">
        <F>2149946</F>
        <F>238</F>
        <F>130</F>
        <F>238</F>
        <F>255</F>
        <F>Structures</F>
      </Row>
      <Row index="14">
        <F>28443616</F>
        <F>176</F>
        <F>48</F>
        <F>97</F>
        <F>255</F>
        <F>Roads / Impervious</F>
      </Row>
      <Row index="15">
        <F>2517071</F>
        <F>156</F>
        <F>156</F>
        <F>156</F>
        <F>255</F>
        <F>Shadow / No Data</F>
      </Row>
    </GDALRasterAttributeTable>
    <SimpleSource>
      <SourceFilename relativeToVRT="0">/vsicurl/https://www.geotree.uni.edu/cog/iowa_statewide_hrlc_2009.tif</SourceFilename>
      <SourceBand>1</SourceBand>
      <SourceProperties RasterXSize="535239" RasterYSize="352327" DataType="Byte" BlockXSize="256" BlockYSize="256" />
      <SrcRect xOff="0" yOff="0" xSize="535239" ySize="352327" />
      <DstRect xOff="0" yOff="0" xSize="535239" ySize="352327" />
    </SimpleSource>
  </VRTRasterBand>
  <OverviewList resampling="nearest">2 4 8 16 32 64 128 256 512</OverviewList>
</VRTDataset>
