<VRTDataset rasterXSize="540000" rasterYSize="360000">
  <SRS dataAxisToSRSAxisMapping="1,2">PROJCS["NAD83 / UTM zone 15N",GEOGCS["NAD83",DATUM["North_American_Datum_1983",SPHEROID["GRS 1980",6378137,298.257222101,AUTHORITY["EPSG","7019"]],AUTHORITY["EPSG","6269"]],PRIMEM["Greenwich",0,AUTHORITY["EPSG","8901"]],UNIT["degree",0.0174532925199433,AUTHORITY["EPSG","9122"]],AUTHORITY["EPSG","4269"]],PROJECTION["Transverse_Mercator"],PARAMETER["latitude_of_origin",0],PARAMETER["central_meridian",-93],PARAMETER["scale_factor",0.9996],PARAMETER["false_easting",500000],PARAMETER["false_northing",0],UNIT["metre",1,AUTHORITY["EPSG","9001"]],AXIS["Easting",EAST],AXIS["Northing",NORTH],AUTHORITY["EPSG","26915"]]</SRS>
  <GeoTransform>  2.0150000000000000e+05,  1.0000000000000000e+00,  0.0000000000000000e+00,  4.8245000000000000e+06,  0.0000000000000000e+00, -1.0000000000000000e+00</GeoTransform>
  <VRTRasterBand dataType="Byte" band="1">
    <Metadata>
      <MDI key="STATISTICS_MAXIMUM">5</MDI>
      <MDI key="STATISTICS_MEAN">4.071332170894</MDI>
      <MDI key="STATISTICS_MINIMUM">4</MDI>
      <MDI key="STATISTICS_STDDEV">0.2573788885855</MDI>
      <MDI key="STATISTICS_VALID_PERCENT">4.752</MDI>
    </Metadata>
    <NoDataValue>255</NoDataValue>
    <ColorInterp>Palette</ColorInterp>
    <ColorTable>
      <Entry c1="0" c2="0" c3="0" c4="0" />
      <Entry c1="0" c2="0" c3="0" c4="0" />
      <Entry c1="0" c2="0" c3="0" c4="0" />
      <Entry c1="0" c2="0" c3="0" c4="0" />
      <Entry c1="0" c2="122" c3="0" c4="255" />
      <Entry c1="0" c2="87" c3="0" c4="255" />
    </ColorTable>
    <GDALRasterAttributeTable Row0Min="4" BinSize="1" tableType="thematic">
      <FieldDefn index="0">
        <Name>Histogram</Name>
        <Type>1</Type>
        <Usage>1</Usage>
      </FieldDefn>
      <FieldDefn index="1">
        <Name>Red</Name>
        <Type>0</Type>
        <Usage>6</Usage>
      </FieldDefn>
      <FieldDefn index="2">
        <Name>Green</Name>
        <Type>0</Type>
        <Usage>7</Usage>
      </FieldDefn>
      <FieldDefn index="3">
        <Name>Blue</Name>
        <Type>0</Type>
        <Usage>8</Usage>
      </FieldDefn>
      <FieldDefn index="4">
        <Name>Opacity</Name>
        <Type>0</Type>
        <Usage>9</Usage>
      </FieldDefn>
      <FieldDefn index="5">
        <Name>Class_Names</Name>
        <Type>2</Type>
        <Usage>2</Usage>
      </FieldDefn>
      <Row index="0">
        <F>8579470389</F>
        <F>0</F>
        <F>122</F>
        <F>0</F>
        <F>255</F>
        <F>Medium Vegetation</F>
      </Row>
      <Row index="1">
        <F>659000160</F>
        <F>0</F>
        <F>87</F>
        <F>0</F>
        <F>255</F>
        <F>High Vegetation</F>
      </Row>
    </GDALRasterAttributeTable>
    <ComplexSource>
      <SourceFilename relativeToVRT="0">/vsicurl/https://www.geotree.uni.edu/cog/iowa_statewide_vegetation.tif</SourceFilename>
      <SourceBand>1</SourceBand>
      <SourceProperties RasterXSize="540000" RasterYSize="360000" DataType="Byte" BlockXSize="256" BlockYSize="256" />
      <SrcRect xOff="0" yOff="0" xSize="540000" ySize="360000" />
      <DstRect xOff="0" yOff="0" xSize="540000" ySize="360000" />
      <NODATA>255</NODATA>
    </ComplexSource>
  </VRTRasterBand>
  <OverviewList resampling="nearest">2 4 8 16 32 64 128 256 512</OverviewList>
</VRTDataset>
